View In:
ArcGIS JavaScript
ArcGIS Online Map Viewer
ArcGIS Earth
ArcMap
ArcGIS Pro
View Footprint In:
ArcGIS Online Map Viewer
Service Description:
Map Name: Map
Legend
All Layers and Tables
Layers:
Description:
Service Item Id: a077e9bf1c204418ae5f7a33ca9feea7
Copyright Text:
Spatial Reference:
PROJCS["NAD_1983_StatePlane_Texas_North_Central_FIPS_4202_Feet",GEOGCS["GCS_North_American_1983",DATUM["D_North_American_1983",SPHEROID["GRS_1980",6378137.0,298.257222101]],PRIMEM["Greenwich",0.0],UNIT["Degree",0.0174532925199433]],PROJECTION["Lambert_Conformal_Conic"],PARAMETER["False_Easting",1968500.0],PARAMETER["False_Northing",6561666.667],PARAMETER["Central_Meridian",-98.5],PARAMETER["Standard_Parallel_1",32.1333333333333],PARAMETER["Standard_Parallel_2",33.9666666666667],PARAMETER["Latitude_Of_Origin",31.6666666666667],UNIT["US survey foot",0.3048006096012192]]
Single Fused Map Cache: true
Tile Info:
- Height: 256
- Width: 256
- DPI: 96
-
Levels of Detail: 19
-
Level ID: 0
[ Start Tile, End Tile ]
- Resolution: 979498.3233422163
- Scale: 1.1283843252588837E9
-
Level ID: 1
[ Start Tile, End Tile ]
- Resolution: 489749.16167110816
- Scale: 5.641921626294419E8
-
Level ID: 2
[ Start Tile, End Tile ]
- Resolution: 244874.58083555408
- Scale: 2.820960813147209E8
-
Level ID: 3
[ Start Tile, End Tile ]
- Resolution: 122437.29041777704
- Scale: 1.4104804065736046E8
-
Level ID: 4
[ Start Tile, End Tile ]
- Resolution: 61218.64520888852
- Scale: 7.052402032868023E7
-
Level ID: 5
[ Start Tile, End Tile ]
- Resolution: 30609.32260444426
- Scale: 3.5262010164340116E7
-
Level ID: 6
[ Start Tile, End Tile ]
- Resolution: 15304.66130222213
- Scale: 1.7631005082170058E7
-
Level ID: 7
[ Start Tile, End Tile ]
- Resolution: 7652.330651111065
- Scale: 8815502.541085029
-
Level ID: 8
[ Start Tile, End Tile ]
- Resolution: 3826.1653255555325
- Scale: 4407751.2705425145
-
Level ID: 9
[ Start Tile, End Tile ]
- Resolution: 1913.0826627777662
- Scale: 2203875.6352712573
-
Level ID: 10
[ Start Tile, End Tile ]
- Resolution: 956.5413313888831
- Scale: 1101937.8176356286
-
Level ID: 11
[ Start Tile, End Tile ]
- Resolution: 478.27066569444156
- Scale: 550968.9088178143
-
Level ID: 12
[ Start Tile, End Tile ]
- Resolution: 239.13533284722078
- Scale: 275484.45440890716
-
Level ID: 13
[ Start Tile, End Tile ]
- Resolution: 119.56766642361039
- Scale: 137742.22720445358
-
Level ID: 14
[ Start Tile, End Tile ]
- Resolution: 59.783833211805195
- Scale: 68871.11360222679
-
Level ID: 15
[ Start Tile, End Tile ]
- Resolution: 29.891916605902598
- Scale: 34435.556801113395
-
Level ID: 16
[ Start Tile, End Tile ]
- Resolution: 14.945958302951299
- Scale: 17217.778400556697
-
Level ID: 17
[ Start Tile, End Tile ]
- Resolution: 7.472979151475649
- Scale: 8608.889200278349
-
Level ID: 18
[ Start Tile, End Tile ]
- Resolution: 3.7364895757378247
- Scale: 4304.444600139174
- Format: PNG
- Compression Quality: 0.0
- Origin: X: -1.2340728538780369E8
Y: 1.1085021694629435E8
- Spatial Reference: PROJCS["NAD_1983_StatePlane_Texas_North_Central_FIPS_4202_Feet",GEOGCS["GCS_North_American_1983",DATUM["D_North_American_1983",SPHEROID["GRS_1980",6378137.0,298.257222101]],PRIMEM["Greenwich",0.0],UNIT["Degree",0.0174532925199433]],PROJECTION["Lambert_Conformal_Conic"],PARAMETER["False_Easting",1968500.0],PARAMETER["False_Northing",6561666.667],PARAMETER["Central_Meridian",-98.5],PARAMETER["Standard_Parallel_1",32.1333333333333],PARAMETER["Standard_Parallel_2",33.9666666666667],PARAMETER["Latitude_Of_Origin",31.6666666666667],UNIT["US survey foot",0.3048006096012192]]
Initial Extent:
XMin: -362527.9544057979
YMin: 5431333.529003417
XMax: 3730858.2131922087
YMax: 7898411.848905064
Spatial Reference: PROJCS["NAD_1983_StatePlane_Texas_North_Central_FIPS_4202_Feet",GEOGCS["GCS_North_American_1983",DATUM["D_North_American_1983",SPHEROID["GRS_1980",6378137.0,298.257222101]],PRIMEM["Greenwich",0.0],UNIT["Degree",0.0174532925199433]],PROJECTION["Lambert_Conformal_Conic"],PARAMETER["False_Easting",1968500.0],PARAMETER["False_Northing",6561666.667],PARAMETER["Central_Meridian",-98.5],PARAMETER["Standard_Parallel_1",32.1333333333333],PARAMETER["Standard_Parallel_2",33.9666666666667],PARAMETER["Latitude_Of_Origin",31.6666666666667],UNIT["US survey foot",0.3048006096012192]]
Full Extent:
XMin: -728629.5605149252
YMin: 4435483.228154291
XMax: 3622401.659303259
YMax: 8414304.491059428
Spatial Reference: PROJCS["NAD_1983_StatePlane_Texas_North_Central_FIPS_4202_Feet",GEOGCS["GCS_North_American_1983",DATUM["D_North_American_1983",SPHEROID["GRS_1980",6378137.0,298.257222101]],PRIMEM["Greenwich",0.0],UNIT["Degree",0.0174532925199433]],PROJECTION["Lambert_Conformal_Conic"],PARAMETER["False_Easting",1968500.0],PARAMETER["False_Northing",6561666.667],PARAMETER["Central_Meridian",-98.5],PARAMETER["Standard_Parallel_1",32.1333333333333],PARAMETER["Standard_Parallel_2",33.9666666666667],PARAMETER["Latitude_Of_Origin",31.6666666666667],UNIT["US survey foot",0.3048006096012192]]
Units: esriFeet
Supported Image Format Types: PNG32,PNG24,PNG,JPG,DIB,TIFF,EMF,PS,PDF,GIF,SVG,SVGZ,BMP
Document Info:
Title: C:\Users\ejohn\OneDrive - mcadamsco.com\Documents\ArcGIS\Projects\SSURGO Tool\SSURGO Tool.aprx
Author:
Comments:
Subject:
Category:
Keywords:
AntialiasingMode: None
TextAntialiasingMode: Force
Supports Dynamic Layers: false
MaxRecordCount: 1000
MaxImageHeight: 4096
MaxImageWidth: 4096
Supported Query Formats: JSON, geoJSON, PBF
Supports Query Data Elements: true
Min Scale: 1.7631005082170058E7
Max Scale: 275484.45440890716
Supports Datum Transformation: true
Child Resources:
Info
Supported Operations:
Return Updates