{
 "currentVersion": 10.81,
 "cimVersion": "2.9.0",
 "serviceDescription": "",
 "mapName": "Map",
 "description": "",
 "copyrightText": "",
 "supportsDynamicLayers": false,
 "layers": [
  {
   "id": 3,
   "name": "USGS_HUC_8_Subbasin",
   "parentLayerId": -1,
   "defaultVisibility": true,
   "subLayerIds": null,
   "minScale": 0,
   "maxScale": 0,
   "type": "Feature Layer",
   "geometryType": "esriGeometryPolygon",
   "supportsDynamicLegends": true
  }
 ],
 "tables": [],
 "spatialReference": {
  "wkt": "PROJCS[\"NAD_1983_StatePlane_Texas_North_Central_FIPS_4202_Feet\",GEOGCS[\"GCS_North_American_1983\",DATUM[\"D_North_American_1983\",SPHEROID[\"GRS_1980\",6378137.0,298.257222101]],PRIMEM[\"Greenwich\",0.0],UNIT[\"Degree\",0.0174532925199433]],PROJECTION[\"Lambert_Conformal_Conic\"],PARAMETER[\"False_Easting\",1968500.0],PARAMETER[\"False_Northing\",6561666.667],PARAMETER[\"Central_Meridian\",-98.5],PARAMETER[\"Standard_Parallel_1\",32.1333333333333],PARAMETER[\"Standard_Parallel_2\",33.9666666666667],PARAMETER[\"Latitude_Of_Origin\",31.6666666666667],UNIT[\"US survey foot\",0.3048006096012192]]",
  "xyTolerance": 0.003280833333333333,
  "zTolerance": 0.001,
  "mTolerance": 0.001,
  "falseX": -123407700,
  "falseY": -86123500,
  "xyUnits": 3048.0060960121928,
  "falseZ": -100000,
  "zUnits": 10000,
  "falseM": -100000,
  "mUnits": 10000
 },
 "singleFusedMapCache": true,
 "tileInfo": {
  "rows": 256,
  "cols": 256,
  "dpi": 96,
  "format": "PNG",
  "compressionQuality": 0,
  "origin": {
   "x": -1.2340728538780369E8,
   "y": 1.1085021694629435E8
  },
  "spatialReference": {
   "wkt": "PROJCS[\"NAD_1983_StatePlane_Texas_North_Central_FIPS_4202_Feet\",GEOGCS[\"GCS_North_American_1983\",DATUM[\"D_North_American_1983\",SPHEROID[\"GRS_1980\",6378137.0,298.257222101]],PRIMEM[\"Greenwich\",0.0],UNIT[\"Degree\",0.0174532925199433]],PROJECTION[\"Lambert_Conformal_Conic\"],PARAMETER[\"False_Easting\",1968500.0],PARAMETER[\"False_Northing\",6561666.667],PARAMETER[\"Central_Meridian\",-98.5],PARAMETER[\"Standard_Parallel_1\",32.1333333333333],PARAMETER[\"Standard_Parallel_2\",33.9666666666667],PARAMETER[\"Latitude_Of_Origin\",31.6666666666667],UNIT[\"US survey foot\",0.3048006096012192]]",
   "xyTolerance": 0.003280833333333333,
   "zTolerance": 0.001,
   "mTolerance": 0.001,
   "falseX": -123407700,
   "falseY": -86123500,
   "xyUnits": 3048.0060960121928,
   "falseZ": -100000,
   "zUnits": 10000,
   "falseM": -100000,
   "mUnits": 10000
  },
  "lods": [
   {
    "level": 0,
    "resolution": 979498.3233422163,
    "scale": 1.1283843252588837E9
   },
   {
    "level": 1,
    "resolution": 489749.16167110816,
    "scale": 5.641921626294419E8
   },
   {
    "level": 2,
    "resolution": 244874.58083555408,
    "scale": 2.820960813147209E8
   },
   {
    "level": 3,
    "resolution": 122437.29041777704,
    "scale": 1.4104804065736046E8
   },
   {
    "level": 4,
    "resolution": 61218.64520888852,
    "scale": 7.052402032868023E7
   },
   {
    "level": 5,
    "resolution": 30609.32260444426,
    "scale": 3.5262010164340116E7
   },
   {
    "level": 6,
    "resolution": 15304.66130222213,
    "scale": 1.7631005082170058E7
   },
   {
    "level": 7,
    "resolution": 7652.330651111065,
    "scale": 8815502.541085029
   },
   {
    "level": 8,
    "resolution": 3826.1653255555325,
    "scale": 4407751.2705425145
   },
   {
    "level": 9,
    "resolution": 1913.0826627777662,
    "scale": 2203875.6352712573
   },
   {
    "level": 10,
    "resolution": 956.5413313888831,
    "scale": 1101937.8176356286
   },
   {
    "level": 11,
    "resolution": 478.27066569444156,
    "scale": 550968.9088178143
   },
   {
    "level": 12,
    "resolution": 239.13533284722078,
    "scale": 275484.45440890716
   },
   {
    "level": 13,
    "resolution": 119.56766642361039,
    "scale": 137742.22720445358
   },
   {
    "level": 14,
    "resolution": 59.783833211805195,
    "scale": 68871.11360222679
   },
   {
    "level": 15,
    "resolution": 29.891916605902598,
    "scale": 34435.556801113395
   },
   {
    "level": 16,
    "resolution": 14.945958302951299,
    "scale": 17217.778400556697
   },
   {
    "level": 17,
    "resolution": 7.472979151475649,
    "scale": 8608.889200278349
   },
   {
    "level": 18,
    "resolution": 3.7364895757378247,
    "scale": 4304.444600139174
   }
  ]
 },
 "storageInfo": {
  "storageFormat": "esriMapCacheStorageModeCompactV2",
  "packetSize": 128
 },
 "initialExtent": {
  "xmin": -362527.9544057979,
  "ymin": 5431333.529003417,
  "xmax": 3730858.2131922087,
  "ymax": 7898411.848905064,
  "spatialReference": {
   "wkt": "PROJCS[\"NAD_1983_StatePlane_Texas_North_Central_FIPS_4202_Feet\",GEOGCS[\"GCS_North_American_1983\",DATUM[\"D_North_American_1983\",SPHEROID[\"GRS_1980\",6378137.0,298.257222101]],PRIMEM[\"Greenwich\",0.0],UNIT[\"Degree\",0.0174532925199433]],PROJECTION[\"Lambert_Conformal_Conic\"],PARAMETER[\"False_Easting\",1968500.0],PARAMETER[\"False_Northing\",6561666.667],PARAMETER[\"Central_Meridian\",-98.5],PARAMETER[\"Standard_Parallel_1\",32.1333333333333],PARAMETER[\"Standard_Parallel_2\",33.9666666666667],PARAMETER[\"Latitude_Of_Origin\",31.6666666666667],UNIT[\"US survey foot\",0.3048006096012192]]",
   "xyTolerance": 0.003280833333333333,
   "zTolerance": 0.001,
   "mTolerance": 0.001,
   "falseX": -123407700,
   "falseY": -86123500,
   "xyUnits": 3048.0060960121928,
   "falseZ": -100000,
   "zUnits": 10000,
   "falseM": -100000,
   "mUnits": 10000
  }
 },
 "fullExtent": {
  "xmin": -728629.5605149252,
  "ymin": 4435483.228154291,
  "xmax": 3622401.659303259,
  "ymax": 8414304.491059428,
  "spatialReference": {
   "wkt": "PROJCS[\"NAD_1983_StatePlane_Texas_North_Central_FIPS_4202_Feet\",GEOGCS[\"GCS_North_American_1983\",DATUM[\"D_North_American_1983\",SPHEROID[\"GRS_1980\",6378137.0,298.257222101]],PRIMEM[\"Greenwich\",0.0],UNIT[\"Degree\",0.0174532925199433]],PROJECTION[\"Lambert_Conformal_Conic\"],PARAMETER[\"False_Easting\",1968500.0],PARAMETER[\"False_Northing\",6561666.667],PARAMETER[\"Central_Meridian\",-98.5],PARAMETER[\"Standard_Parallel_1\",32.1333333333333],PARAMETER[\"Standard_Parallel_2\",33.9666666666667],PARAMETER[\"Latitude_Of_Origin\",31.6666666666667],UNIT[\"US survey foot\",0.3048006096012192]]",
   "xyTolerance": 0.003280833333333333,
   "zTolerance": 0.001,
   "mTolerance": 0.001,
   "falseX": -123407700,
   "falseY": -86123500,
   "xyUnits": 3048.0060960121928,
   "falseZ": -100000,
   "zUnits": 10000,
   "falseM": -100000,
   "mUnits": 10000
  }
 },
 "datesInUnknownTimezone": false,
 "units": "esriFeet",
 "supportedImageFormatTypes": "PNG32,PNG24,PNG,JPG,DIB,TIFF,EMF,PS,PDF,GIF,SVG,SVGZ,BMP",
 "documentInfo": {
  "Title": "C:\\Users\\ejohn\\OneDrive - mcadamsco.com\\Documents\\ArcGIS\\Projects\\SSURGO Tool\\SSURGO Tool.aprx",
  "Author": "",
  "Comments": "",
  "Subject": "",
  "Category": "",
  "AntialiasingMode": "None",
  "TextAntialiasingMode": "Force",
  "Version": "2.9.0",
  "Keywords": ""
 },
 "supportedQueryFormats": "JSON, geoJSON, PBF",
 "referenceScale": 0.0,
 "datumTransformations": [
  {
   "geoTransforms": [
    {
     "wkid": 108190,
     "latestWkid": 108190,
     "transformForward": true,
     "name": "WGS_1984_(ITRF00)_To_NAD_1983"
    }
   ]
  },
  {
   "geoTransforms": [
    {
     "wkid": 108190,
     "latestWkid": 108190,
     "transformForward": false,
     "name": "WGS_1984_(ITRF00)_To_NAD_1983"
    }
   ]
  },
  {
   "geoTransforms": [
    {
     "wkid": 108190,
     "latestWkid": 108190,
     "transformForward": true,
     "name": "WGS_1984_(ITRF00)_To_NAD_1983"
    }
   ]
  },
  {
   "geoTransforms": [
    {
     "wkid": 108190,
     "latestWkid": 108190,
     "transformForward": false,
     "name": "WGS_1984_(ITRF00)_To_NAD_1983"
    }
   ]
  }
 ],
 "supportsDatumTransformation": true,
 "floorAwareMapProperties": {
  "defaultFloorFilterSettings": {
   "isEnabled": true
  }
 },
 "archivingInfo": {
  "supportsHistoricMoment": false
 },
 "supportsClipping": true,
 "supportsSpatialFilter": true,
 "supportsTimeRelation": true,
 "supportsQueryDataElements": true,
 "maxRecordCount": 1000,
 "maxImageHeight": 4096,
 "maxImageWidth": 4096,
 "capabilities": "TilesOnly,Tilemap",
 "minScale": 1.7631005082170058E7,
 "maxScale": 275484.45440890716,
 "exportTilesAllowed": false,
 "maxExportTilesCount": 100000,
 "supportedExtensions": "",
 "serviceItemId": "a077e9bf1c204418ae5f7a33ca9feea7"
}
